BEGIN:VCALENDAR
VERSION:2.0
PRODID:-//Kulturkreis Gerresheim - ECPv6.15.20//NONSGML v1.0//EN
CALSCALE:GREGORIAN
METHOD:PUBLISH
X-WR-CALNAME:Kulturkreis Gerresheim
X-ORIGINAL-URL:https://kulturkreis-gerresheim.de
X-WR-CALDESC:Veranstaltungen für Kulturkreis Gerresheim
REFRESH-INTERVAL;VALUE=DURATION:PT1H
X-Robots-Tag:noindex
X-PUBLISHED-TTL:PT1H
BEGIN:VTIMEZONE
TZID:Europe/Berlin
BEGIN:DAYLIGHT
TZOFFSETFROM:+0100
TZOFFSETTO:+0200
TZNAME:CEST
DTSTART:20250330T010000
END:DAYLIGHT
BEGIN:STANDARD
TZOFFSETFROM:+0200
TZOFFSETTO:+0100
TZNAME:CET
DTSTART:20251026T010000
END:STANDARD
BEGIN:DAYLIGHT
TZOFFSETFROM:+0100
TZOFFSETTO:+0200
TZNAME:CEST
DTSTART:20260329T010000
END:DAYLIGHT
BEGIN:STANDARD
TZOFFSETFROM:+0200
TZOFFSETTO:+0100
TZNAME:CET
DTSTART:20261025T010000
END:STANDARD
BEGIN:DAYLIGHT
TZOFFSETFROM:+0100
TZOFFSETTO:+0200
TZNAME:CEST
DTSTART:20270328T010000
END:DAYLIGHT
BEGIN:STANDARD
TZOFFSETFROM:+0200
TZOFFSETTO:+0100
TZNAME:CET
DTSTART:20271031T010000
END:STANDARD
END:VTIMEZONE
BEGIN:VEVENT
DTSTART;TZID=Europe/Berlin:20260621T150000
DTEND;TZID=Europe/Berlin:20260621T170000
DTSTAMP:20260423T081415
CREATED:20260303T163259Z
LAST-MODIFIED:20260303T163302Z
UID:1501-1782054000-1782061200@kulturkreis-gerresheim.de
SUMMARY:Jazz im Brunnengarten
DESCRIPTION:mit der Big Band der Clara-Schumann-Musikschule
URL:https://kulturkreis-gerresheim.de/veranstaltung/jazz-im-brunnengarten-4/
LOCATION:Brunnengarten der Basilika St. Margareta\, Gerricusstr. 12\, Düsseldorf\, 40625\, Deutschland
CATEGORIES:Musik
ATTACH;FMTTYPE=image/jpeg:https://kulturkreis-gerresheim.de/wp-content/uploads/2024/06/Romano-Schubert-mit-seiner-Big-Band-2013.jpg
END:VEVENT
END:VCALENDAR